BEGIN:VCALENDAR
PRODID:-//eluceo/ical//2.0/EN
VERSION:2.0
CALSCALE:GREGORIAN
BEGIN:VEVENT
UID:741d7da54abd9feba798bd2a5cb92942
DTSTAMP:20260420T024505Z
SUMMARY:An Evening with The Honourable Bill Morneau\, Minister of Finance.
DESCRIPTION:UJA Federation of Greater Toronto\nJewish Toronto Calendar\nhtt
 ps://jewishtoronto.com/calendar/an-evening-with-the-honourable-bill-mornea
 u-minister-of-finance-1461697798\n\nAn Evening with The Honourable Bill Mo
 rneau\, Minister of Finance.\n\nMay 24\, 2016\n\n7:00 – 9:00 pm\n\nVenue
 : Private Home\n\nPhone: 416-781-3584 for details.\n\nCanadian Shaare Zede
 k Hospital Foundation
DTSTART;TZID=America/Toronto:20160524T190000
DTEND;TZID=America/Toronto:20160524T210000
END:VEVENT
END:VCALENDAR
