BEGIN:VCALENDAR
PRODID:-//eluceo/ical//2.0/EN
VERSION:2.0
CALSCALE:GREGORIAN
BEGIN:VEVENT
UID:3ab3210c03d7e8e3de9bd59997bb1954
DTSTAMP:20260424T002724Z
SUMMARY:An Evening with Special Envoy\, Deborah Lyons
DESCRIPTION:UJA Federation of Greater Toronto\nJewish Toronto Calendar\nhtt
 ps://jewishtoronto.com/calendar/an-evening-with-special-envoy-deborah-lyon
 s-1729611229\n\nPlease join us at Holy Blossom Temple for an important con
 versation with Canada’s Special Envoy on Preserving Holocaust Remembranc
 e and Combatting Antisemitism\, Deborah Lyons.Special Envoy Lyons has serv
 ed for many years in national and global diplomatic leadership positions\,
  including as Canada’s ambassador to Israel and Afghanistan. She was app
 ointed to her current position in October 2023 and\, as part of her role\,
  she represents Canada at the International Holocaust Remembrance Allianc.
 ..
DTSTART;TZID=America/Toronto:20241113T190000
DTEND;TZID=America/Toronto:20241113T210000
END:VEVENT
END:VCALENDAR
