BEGIN:VCALENDAR
PRODID:-//eluceo/ical//2.0/EN
VERSION:2.0
CALSCALE:GREGORIAN
BEGIN:VEVENT
UID:946a2532706b195d10429fdfdd088973
DTSTAMP:20260423T230839Z
SUMMARY:An Evening with Parenting Expert\, Alyson Schafer
DESCRIPTION:UJA Federation of Greater Toronto\nJewish Toronto Calendar\nhtt
 ps://jewishtoronto.com/calendar/an-evening-with-parenting-expert-alyson-sc
 hafer-1521052316\n\nBest-selling author and world renowned parenting exper
 t\, Alyson Schafer will be here to talk about the current family dynamic a
 nd actionable solutions to transform your family. She will be answering yo
 ur questions too!\n\nAlyson has been featured on CTV\, The Marilyn Dennis 
 Show\, Canada AM and many more!\n\nNo Cost.\n\nFree childcare provided.\n\
 nRegister at www.bethsholom.net
DTSTART;TZID=America/Toronto:20180425T193000
DTEND;TZID=America/Toronto:20180425T210000
END:VEVENT
END:VCALENDAR
