BEGIN:VCALENDAR
PRODID:-//eluceo/ical//2.0/EN
VERSION:2.0
CALSCALE:GREGORIAN
BEGIN:VEVENT
UID:5b5b125d1638f42bb79def18ccc78b07
DTSTAMP:20260420T071813Z
SUMMARY:An evening with Natasha Hausdorf
DESCRIPTION:UJA Federation of Greater Toronto\nJewish Toronto Calendar\nhtt
 ps://jewishtoronto.com/calendar/an-evening-with-natasha-hausdorf-175683751
 4\n\nlecture
DTSTART;TZID=America/Toronto:20260202T200000
DTEND;TZID=America/Toronto:20260202T220000
END:VEVENT
END:VCALENDAR
