BEGIN:VCALENDAR
PRODID:-//eluceo/ical//2.0/EN
VERSION:2.0
CALSCALE:GREGORIAN
BEGIN:VEVENT
UID:65cbfff0372132649a72737234f18ea6
DTSTAMP:20260421T011106Z
SUMMARY:An Evening with Haviv Rettig Gur
DESCRIPTION:UJA Federation of Greater Toronto\nJewish Toronto Calendar\nhtt
 ps://jewishtoronto.com/calendar/an-evening-with-haviv-rettig-gur-175278053
 6\n\nSince October 7\, Haviv has provided clarity in analyzing Israel’s 
 challenges\, history\, and future. Haviv is Senior Analyst at The Times of
  Israel and host of the podcast Ask Haviv Anything.
DTSTART;TZID=America/Toronto:20250908T193000
DTEND;TZID=America/Toronto:20250908T213000
END:VEVENT
END:VCALENDAR
