BEGIN:VCALENDAR
PRODID:-//eluceo/ical//2.0/EN
VERSION:2.0
CALSCALE:GREGORIAN
BEGIN:VEVENT
UID:16ec6102f38ecfca82fa322b9d01d5e0
DTSTAMP:20260425T103454Z
SUMMARY:An Evening with Daniel Silva
DESCRIPTION:UJA Federation of Greater Toronto\nJewish Toronto Calendar\nhtt
 ps://jewishtoronto.com/calendar/an-evening-with-daniel-silva-1530278403\n\
 nDaniel Silva comes to Bathurst Street!\n\nHoly Blossom and Beth Tzedec pr
 esent Daniel Silva\, best-selling author of Moscow Rules\, The English Spy
  and The Black Widow\, in his only Canadian appearance. (Due to ongoing co
 nstruction\, this special event has been moved to Beth Tzedec - 1700 Bathu
 rst St.\, Toronto)\n\nDiscounted tickets for Beth Tzedec and Holy Blossom 
 members. Cost: $20 Beth Tzedec/Holy Blossom members\; $25 non-members\; $3
 0 at the door. Ticket price includes a copy of Silva's...
DTSTART;TZID=America/Toronto:20180725T193000
DTEND;TZID=America/Toronto:20180725T213000
END:VEVENT
END:VCALENDAR
