BEGIN:VCALENDAR
PRODID:-//eluceo/ical//2.0/EN
VERSION:2.0
CALSCALE:GREGORIAN
BEGIN:VEVENT
UID:231de5593d7f13a5e6800bdc85298e67
DTSTAMP:20260422T210159Z
SUMMARY:An Evening of Truth with Lt. Col. (Ret.) Jonathan Conricus
DESCRIPTION:UJA Federation of Greater Toronto\nJewish Toronto Calendar\nhtt
 ps://jewishtoronto.com/calendar/an-evening-of-truth-with-lt-col-res-jonath
 an-conricus-1775529156\n\nAfter speaking to the world\, Lt. Col. (Ret.) Jo
 nathan Conricus now speaks to Toronto\, presenting an up-to-the-minute rep
 ort on what is happening behind the scenes.\n\nFor any questions\, please 
 contact admin@songshul.com
DTSTART;TZID=America/Toronto:20260428T193000
DTEND;TZID=America/Toronto:20260428T213000
END:VEVENT
END:VCALENDAR
