BEGIN:VCALENDAR
PRODID:-//eluceo/ical//2.0/EN
VERSION:2.0
CALSCALE:GREGORIAN
BEGIN:VEVENT
UID:43aa41762f1b97d5cb6bc6400595ae04
DTSTAMP:20260421T124207Z
SUMMARY:Among Israelis: Some Captured Moments
DESCRIPTION:UJA Federation of Greater Toronto\nJewish Toronto Calendar\nhtt
 ps://jewishtoronto.com/calendar/among-israelis-some-captured-moments-14888
 38201\n\nIn the Gallery in the Miles Nadal JCC\nPhotography by Jack Micay\
 n
DTSTART;TZID=America/Toronto:20170307T090000
DTEND;TZID=America/Toronto:20170307T110000
END:VEVENT
END:VCALENDAR
