BEGIN:VCALENDAR
PRODID:-//eluceo/ical//2.0/EN
VERSION:2.0
CALSCALE:GREGORIAN
BEGIN:VEVENT
UID:a06d87c9e2b8caafa3e7133b53e08df6
DTSTAMP:20260421T125119Z
SUMMARY:Among Israelis: Some Captured Moments
DESCRIPTION:UJA Federation of Greater Toronto\nJewish Toronto Calendar\nhtt
 ps://jewishtoronto.com/calendar/among-israelis-some-captured-moments-14875
 23075\n\nIn the Gallery in the Miles Nadal JCC\nPhotography by Jack Micay
DTSTART;TZID=America/Toronto:20170302T190000
DTEND;TZID=America/Toronto:20170329T120000
END:VEVENT
END:VCALENDAR
