BEGIN:VCALENDAR
PRODID:-//eluceo/ical//2.0/EN
VERSION:2.0
CALSCALE:GREGORIAN
BEGIN:VEVENT
UID:7f8d283c9636c59f520cd45ba4556cd1
DTSTAMP:20260421T191957Z
SUMMARY:American Sign Language Classes
DESCRIPTION:UJA Federation of Greater Toronto\nJewish Toronto Calendar\nhtt
 ps://jewishtoronto.com/calendar/american-sign-language-classes-1475265168\
 n\nIntro to ASL I: Wednesdays\, October 19 - November 23\, 7:00 - 8:00 pm.
  $96\nIntro to ASL II: Wednesdays\, October 19 - November 23\, 8:15 - 9:15
  pm: $96\nSkills taught will include vocabulary\, finger spelling and the 
 introduction of grammatical structures.\nDeaf Culture studies will be inco
 rporated into the curriculum. The final week of the classes for both sessi
 ons will be held at Signs restaurant.
DTSTART;TZID=America/Toronto:20161019T190000
DTEND;TZID=America/Toronto:20161019T211500
END:VEVENT
END:VCALENDAR
