BEGIN:VCALENDAR
PRODID:-//eluceo/ical//2.0/EN
VERSION:2.0
CALSCALE:GREGORIAN
BEGIN:VEVENT
UID:0c9ab0e35938374ed914fed67b116536
DTSTAMP:20260420T085631Z
SUMMARY:Am Zu Ga'alta: A Musical Kabbalat Shabbat Service and Community Din
 ner
DESCRIPTION:UJA Federation of Greater Toronto\nJewish Toronto Calendar\nhtt
 ps://jewishtoronto.com/calendar/am-zu-gaalta-a-musical-kabbalat-shabbat-se
 rvice-and-community-dinner-1673884177\n\nJoin us for this special musical 
 Kabbalat Shabbat service and community Shabbat dinner presented in honour 
 of Israel’s 75th birthday occurring this year and in conjunction with Re
 fugee Awareness Shabbat. Throughout our evening service and dinner\, we wi
 ll feature music from various world Jewish communities whose waves of immi
 gration over the years helped define and shape the nation that Israel has 
 become.\n\nEveryone is welcome to join us for the Service either in person
  or via our...
DTSTART;TZID=America/Toronto:20230203T180000
DTEND;TZID=America/Toronto:20230203T210000
END:VEVENT
END:VCALENDAR
