BEGIN:VCALENDAR
PRODID:-//eluceo/ical//2.0/EN
VERSION:2.0
CALSCALE:GREGORIAN
BEGIN:VEVENT
UID:aaaa170a15a3b87cd9d636bc3f947607
DTSTAMP:20260424T181224Z
SUMMARY:AM ISRAEL CHAI EVENT
DESCRIPTION:UJA Federation of Greater Toronto\nJewish Toronto Calendar\nhtt
 ps://jewishtoronto.com/calendar/am-israel-chai-event-1702914533\n\nCanadia
 n Magen David Adom will be hosting an outstanding event of appreciation an
 d support for Israel and its Humanitarian Mission
DTSTART;TZID=America/Toronto:20241121T000000
DTEND;TZID=America/Toronto:20241121T000000
END:VEVENT
END:VCALENDAR
