BEGIN:VCALENDAR
PRODID:-//eluceo/ical//2.0/EN
VERSION:2.0
CALSCALE:GREGORIAN
BEGIN:VEVENT
UID:251de94c5d589619f235fb1ee9bfd278
DTSTAMP:20260422T042938Z
SUMMARY:All That (Jewish Jazz)
DESCRIPTION:UJA Federation of Greater Toronto\nJewish Toronto Calendar\nhtt
 ps://jewishtoronto.com/calendar/all-that-jewish-jazz\n\nAll That (Jewish J
 azz)\n\nWith musician Jordan Klapman\n\nFascinating stories about the hist
 ory of jazz\, great historic recordings\, lively piano and an interactive 
 sing-along .. "who could ask for anything more?"\n\nThursday\, February 19
  & 26 / 1:30 pm - 3:00 pm\n\nDrop-In:  $4/Lecture
DTSTART;TZID=America/Toronto:20150219T133000
DTEND;TZID=America/Toronto:20150219T150000
END:VEVENT
END:VCALENDAR
