BEGIN:VCALENDAR
PRODID:-//eluceo/ical//2.0/EN
VERSION:2.0
CALSCALE:GREGORIAN
BEGIN:VEVENT
UID:257c6189fe7c2d7e3ba87fead8f93f1c
DTSTAMP:20260423T211645Z
SUMMARY:Aliyah Real Estate Event
DESCRIPTION:UJA Federation of Greater Toronto\nJewish Toronto Calendar\nhtt
 ps://jewishtoronto.com/calendar/aliyah-real-estate-event\n\nAn Evening of 
 Networking and Information with some of Canada’s top real estate executi
 ves.
DTSTART;TZID=America/Toronto:20160112T180000
DTEND;TZID=America/Toronto:20160112T210000
END:VEVENT
END:VCALENDAR
