BEGIN:VCALENDAR
PRODID:-//eluceo/ical//2.0/EN
VERSION:2.0
CALSCALE:GREGORIAN
BEGIN:VEVENT
UID:a9beced55de5c9f32a1aa9d3816b0eb2
DTSTAMP:20260420T182542Z
SUMMARY:Aliyah Canvasser kick-off
DESCRIPTION:UJA Federation of Greater Toronto\nJewish Toronto Calendar\nhtt
 ps://jewishtoronto.com/calendar/aliyah-canvasser-kick-off-1\n\nAliyah Canv
 asser kick-off
DTSTART;TZID=America/Toronto:20150827T183000
DTEND;TZID=America/Toronto:20150827T213000
END:VEVENT
END:VCALENDAR
