BEGIN:VCALENDAR
PRODID:-//eluceo/ical//2.0/EN
VERSION:2.0
CALSCALE:GREGORIAN
BEGIN:VEVENT
UID:68bb88e483c6a5b9c89bf41722601ba4
DTSTAMP:20260422T114533Z
SUMMARY:Aliyah Canvasser kick-off
DESCRIPTION:UJA Federation of Greater Toronto\nJewish Toronto Calendar\nhtt
 ps://jewishtoronto.com/calendar/aliyah-canvasser-kick-off\n\nAliyah Canvas
 ser kick-off
DTSTART;TZID=America/Toronto:20150826T183000
DTEND;TZID=America/Toronto:20150826T213000
END:VEVENT
END:VCALENDAR
