BEGIN:VCALENDAR
PRODID:-//eluceo/ical//2.0/EN
VERSION:2.0
CALSCALE:GREGORIAN
BEGIN:VEVENT
UID:615545571c797333ec1689c45872560a
DTSTAMP:20260423T084802Z
SUMMARY:ALEH Guest Speaker: Rabbi Lord Jonathan Sacks
DESCRIPTION:UJA Federation of Greater Toronto\nJewish Toronto Calendar\nhtt
 ps://jewishtoronto.com/calendar/aleh-guest-speaker-rabbi-lord-jonathan-sac
 ks-1445872410\n\nALEH Guest Speaker: Rabbi Lord Jonathan Sacks\n\nWhere: S
 haarei Shomayim Synagogue\nTime: 6:00pm until 9:45\nCost: $36\nRegistratio
 n:  www.alehtoronto.org
DTSTART;TZID=America/Toronto:20160316T193000
DTEND;TZID=America/Toronto:20160316T213000
END:VEVENT
END:VCALENDAR
