BEGIN:VCALENDAR
PRODID:-//eluceo/ical//2.0/EN
VERSION:2.0
CALSCALE:GREGORIAN
BEGIN:VEVENT
UID:c462c7be01c19d9eeb780c172500ea17
DTSTAMP:20260424T195436Z
SUMMARY:AHS at the Marlies
DESCRIPTION:UJA Federation of Greater Toronto\nJewish Toronto Calendar\nhtt
 ps://jewishtoronto.com/calendar/ahs-at-the-marlies\n\nCall for more detail
 s
DTSTART;TZID=America/Toronto:20150222T090000
DTEND;TZID=America/Toronto:20150222T170000
END:VEVENT
END:VCALENDAR
