BEGIN:VCALENDAR
PRODID:-//eluceo/ical//2.0/EN
VERSION:2.0
CALSCALE:GREGORIAN
BEGIN:VEVENT
UID:af8312af7bf3743446bb056394704b25
DTSTAMP:20260424T033335Z
SUMMARY:Against the Odds: Celebrating Female Artists
DESCRIPTION:UJA Federation of Greater Toronto\nJewish Toronto Calendar\nhtt
 ps://jewishtoronto.com/calendar/against-the-odds-celebrating-female-artist
 s-1459954665\n\nArt Appreciation Lecture with Osnat Lippa\nFrom the Renais
 sance to the 20th century\, female artists including Sonia Delaunay\, Mary
  Cassatt and Berthe Morisot were often marginalized and forgotten. Why hav
 e these talented women not been more recognized?
DTSTART;TZID=America/Toronto:20160509T133000
DTEND;TZID=America/Toronto:20160509T153000
END:VEVENT
END:VCALENDAR
