BEGIN:VCALENDAR
PRODID:-//eluceo/ical//2.0/EN
VERSION:2.0
CALSCALE:GREGORIAN
BEGIN:VEVENT
UID:3f834cbb13f22ac7f96e97e4981f9f5f
DTSTAMP:20260420T071621Z
SUMMARY:Against the Grain: Orthodox Feminism in Israel
DESCRIPTION:UJA Federation of Greater Toronto\nJewish Toronto Calendar\nhtt
 ps://jewishtoronto.com/calendar/against-the-grain-orthodox-feminism-in-isr
 ael\n\nFrom pressure to sit at the back of public buses to attacks on scho
 olgirls for dressing “immodestly”\, an Orthodox woman requires tremend
 ous strength and commitment to push back against efforts to marginalize wo
 men in Israel.\n\nJoin NIFC and feminist pioneer Hannah Kehat\, founder of
  Israel’s first Orthodox feminist organization\, Kolech (‘her voice’
 ). Kehat is a dynamic leader of the discourse in Israel around feminism an
 d religious pressure on women.
DTSTART;TZID=America/Toronto:20150222T190000
DTEND;TZID=America/Toronto:20150224T210000
END:VEVENT
END:VCALENDAR
