BEGIN:VCALENDAR
PRODID:-//eluceo/ical//2.0/EN
VERSION:2.0
CALSCALE:GREGORIAN
BEGIN:VEVENT
UID:fea2956e4b859040c3d20a04d6b53c36
DTSTAMP:20260425T170228Z
SUMMARY:AffordAbility: Affordable Housing for People with Disabilities  - J
 DAIM
DESCRIPTION:UJA Federation of Greater Toronto\nJewish Toronto Calendar\nhtt
 ps://jewishtoronto.com/calendar/affordability-affordable-housing-for-peopl
 e-with-disabilities----jdaim-1450663394\n\nAffordAbility: Affordable Housi
 ng for People with Disabilities Challenges and Opportunities Forum on Thur
 sday February 25th 7:00-9:00 in the Al Green Theatre. This forum will be o
 pen to the public and to interested stakeholders of all backgrounds. The f
 orum with be moderated by Alex Bozikovic\, architecture critic of the Glob
 e and Mail. With the Reena Foundation and Kehilla Residential Services\, C
 ity of Toronto Planning Staff. FREE
DTSTART;TZID=America/Toronto:20160225T190000
DTEND;TZID=America/Toronto:20160225T210000
END:VEVENT
END:VCALENDAR
