BEGIN:VCALENDAR
PRODID:-//eluceo/ical//2.0/EN
VERSION:2.0
CALSCALE:GREGORIAN
BEGIN:VEVENT
UID:6793d24abac57730d4d8b75e2f21cc35
DTSTAMP:20260421T043622Z
SUMMARY:Adult March of the Living Info Session
DESCRIPTION:UJA Federation of Greater Toronto\nJewish Toronto Calendar\nhtt
 ps://jewishtoronto.com/calendar/adult-march-of-the-living-info-session-153
 7466365\n\nLearn about the 2019 Adult March of the Living program.
DTSTART;TZID=America/Toronto:20181003T190000
DTEND;TZID=America/Toronto:20181003T210000
END:VEVENT
END:VCALENDAR
