BEGIN:VCALENDAR
PRODID:-//eluceo/ical//2.0/EN
VERSION:2.0
CALSCALE:GREGORIAN
BEGIN:VEVENT
UID:c44adec0d7367dcb544a48538162e61f
DTSTAMP:20260422T232022Z
SUMMARY:Adult Education Lecture Series
DESCRIPTION:UJA Federation of Greater Toronto\nJewish Toronto Calendar\nhtt
 ps://jewishtoronto.com/calendar/adult-education-lecture-series-1681495064\
 n\nAustralia: The Unpromised Land - Sunday April 30th - 7:00 PM \n     How
  Australia almost saved 125\,000 Jews from the Holocaust.  The remarkable 
 story of an extraordinary individual who attempted to save scores of Europ
 ean Jews by settling them in two of the most remote parts of Australia.\n\
 nSuriname: Jews in the Jungle - Sunday May 7th - 7:00 PM\n     The story o
 f the oldest existing Jewish community in the Americas.  Jacob Steinberg r
 ecounts the remarkable story of Suriname and its many...
DTSTART;TZID=America/Toronto:20230430T190000
DTEND;TZID=America/Toronto:20230507T230000
END:VEVENT
END:VCALENDAR
