BEGIN:VCALENDAR
PRODID:-//eluceo/ical//2.0/EN
VERSION:2.0
CALSCALE:GREGORIAN
BEGIN:VEVENT
UID:5506e6011179c54e1a9813db7246e49c
DTSTAMP:20260422T041419Z
SUMMARY:Adath Israel's  Cantor Alex Stein - Musical Highlights of Jews on B
 roadway
DESCRIPTION:UJA Federation of Greater Toronto\nJewish Toronto Calendar\nhtt
 ps://jewishtoronto.com/calendar/adath-israels--cantor-alex-stein---musical
 -highlights-of-jews-on-broadway-1618514425\n\nJoin Cantor Stein for an eve
 ning of Broadway tunes by Jewish performers on Broadway.
DTSTART;TZID=America/Toronto:20210512T190000
DTEND;TZID=America/Toronto:20210512T200000
END:VEVENT
END:VCALENDAR
