BEGIN:VCALENDAR
PRODID:-//eluceo/ical//2.0/EN
VERSION:2.0
CALSCALE:GREGORIAN
BEGIN:VEVENT
UID:ce9e608a230d3d301d1f7e23ef4d4254
DTSTAMP:20260422T223133Z
SUMMARY:Adath Israel presents Jewish Community in Uganda
DESCRIPTION:UJA Federation of Greater Toronto\nJewish Toronto Calendar\nhtt
 ps://jewishtoronto.com/calendar/adath-israel-presents-jewish-community-in-
 uganda-1767733141\n\nMeet Members of the Abayudaya Conservative Jewish Com
 munity in Uganda.\nJoin Rabbi Yerach in conversation with Ezera Mojja and 
 Rabbin Asiime\, as well as a short video with Rabbi Gershom Sizomu on the 
 history of the Abayudaya Jews (People of Judah) and music from “Sing for
  Joy”.
DTSTART;TZID=America/Toronto:20260125T130000
DTEND;TZID=America/Toronto:20260125T140000
END:VEVENT
END:VCALENDAR
