BEGIN:VCALENDAR
PRODID:-//eluceo/ical//2.0/EN
VERSION:2.0
CALSCALE:GREGORIAN
BEGIN:VEVENT
UID:91d72d27e9c6fac57318a08f03c40215
DTSTAMP:20260422T205223Z
SUMMARY:Adath Israel Congregation Yom Ha'atzmaut Family BBQ
DESCRIPTION:UJA Federation of Greater Toronto\nJewish Toronto Calendar\nhtt
 ps://jewishtoronto.com/calendar/adath-israel-congregation-yom-haatzmaut-fa
 mily-bbq-1522761059\n\nAll ages Family BBQ. Israeli dancing\, DJ\, music w
 ith our ShinShinim Faran & Ram. Joint program with Associated Hebrew\n\nSc
 hool. Israeli Games\, Singalong\, Dancing\, DJ\, Delicious BBQ.
DTSTART;TZID=America/Toronto:20180419T170000
DTEND;TZID=America/Toronto:20180419T190000
END:VEVENT
END:VCALENDAR
