BEGIN:VCALENDAR
PRODID:-//eluceo/ical//2.0/EN
VERSION:2.0
CALSCALE:GREGORIAN
BEGIN:VEVENT
UID:d28d96d29233141c9b54bcbeb1e74311
DTSTAMP:20260424T111634Z
SUMMARY:Adath Israel Congregation Mitzvah Day
DESCRIPTION:UJA Federation of Greater Toronto\nJewish Toronto Calendar\nhtt
 ps://jewishtoronto.com/calendar/adath-israel-congregation-mitzvah-day-1491
 248194\n\nDuring this one day event\, there will be a number of crafts & p
 rojects designed to support our synagogue & various charities in the GTA &
  Israel.\n\nIt’s a lot of fun and it’s a perfect way for Adath Israel 
 members of all ages to show they care about our community.
DTSTART;TZID=America/Toronto:20170507T090000
DTEND;TZID=America/Toronto:20170507T235900
END:VEVENT
END:VCALENDAR
