BEGIN:VCALENDAR
PRODID:-//eluceo/ical//2.0/EN
VERSION:2.0
CALSCALE:GREGORIAN
BEGIN:VEVENT
UID:2081a6ecfde6a1a88ac5bc3b3cedc8ca
DTSTAMP:20260421T234903Z
SUMMARY:Adath Israel Congregation - Jews Can Play Sports Too with David Gro
 ssman
DESCRIPTION:UJA Federation of Greater Toronto\nJewish Toronto Calendar\nhtt
 ps://jewishtoronto.com/calendar/adath-israel-congregation-jews-can-play-sp
 orts-too-with-david-grossman\n\nJoin us for a one-hour audio-visual presen
 tation\, with commentary from award winning sports journalist/broadcaster\
 , as he takes us through the highlights and many memorable performances\, 
 and heroics\, of past\, and present Jewish athletes from around the world.
DTSTART;TZID=America/Toronto:20171029T100000
DTEND;TZID=America/Toronto:20171029T120000
END:VEVENT
END:VCALENDAR
