BEGIN:VCALENDAR
PRODID:-//eluceo/ical//2.0/EN
VERSION:2.0
CALSCALE:GREGORIAN
BEGIN:VEVENT
UID:71adc6c571058092d65a14dae14d6eb9
DTSTAMP:20260424T092423Z
SUMMARY:Adath Israel Congregation - Diamonds & Dancing Games Night
DESCRIPTION:UJA Federation of Greater Toronto\nJewish Toronto Calendar\nhtt
 ps://jewishtoronto.com/calendar/adath-israel-congregation-diamonds-dancing
 -games-night\n\n
DTSTART;TZID=America/Toronto:20161126T200000
DTEND;TZID=America/Toronto:20161126T235500
END:VEVENT
END:VCALENDAR
