BEGIN:VCALENDAR
PRODID:-//eluceo/ical//2.0/EN
VERSION:2.0
CALSCALE:GREGORIAN
BEGIN:VEVENT
UID:dfceba96894ae42d0262321d1d9a119e
DTSTAMP:20260420T145509Z
SUMMARY:Adath Israel Congregation 11th Annual Golf Tournament
DESCRIPTION:UJA Federation of Greater Toronto\nJewish Toronto Calendar\nhtt
 ps://jewishtoronto.com/calendar/adath-israel-congregation-11th-annual-golf
 -tournament\n\nRegistration starts at 11am followed by lunch and tee off a
 t 1:30pm.
DTSTART;TZID=America/Toronto:20140525T110000
DTEND;TZID=America/Toronto:20140525T173000
END:VEVENT
END:VCALENDAR
