BEGIN:VCALENDAR
PRODID:-//eluceo/ical//2.0/EN
VERSION:2.0
CALSCALE:GREGORIAN
BEGIN:VEVENT
UID:c3aa80200f711c589528e5b6eb0953e1
DTSTAMP:20260422T080434Z
SUMMARY:Adath Israel Congregation  14th Annual Golf Tournament
DESCRIPTION:UJA Federation of Greater Toronto\nJewish Toronto Calendar\nhtt
 ps://jewishtoronto.com/calendar/adath-israel-congregation--14th-annual-gol
 f-tournament-1487702283\n\nJoin us at the Lebovic Golf Club\, 14020 Leslie
  Street in Aurora\, A Doug Carrick Design\nDelicious kosher lunch and dinn
 er. Contests and more.
DTSTART;TZID=America/Toronto:20170516T113000
DTEND;TZID=America/Toronto:20170516T235900
END:VEVENT
END:VCALENDAR
