BEGIN:VCALENDAR
PRODID:-//eluceo/ical//2.0/EN
VERSION:2.0
CALSCALE:GREGORIAN
BEGIN:VEVENT
UID:079fa3028820785aded5b007ae91ebc5
DTSTAMP:20260422T072931Z
SUMMARY:Adath Israel Congregation - 20s and 30s: Axe Throwing
DESCRIPTION:UJA Federation of Greater Toronto\nJewish Toronto Calendar\nhtt
 ps://jewishtoronto.com/calendar/adath-israel-congregation---20s-and-30s-ax
 e-throwing-1509391011\n\nPlease bring in a new or gently used clothing ite
 m to be donated to Just a Second Shop.\n\nRefreshments served.\n
DTSTART;TZID=America/Toronto:20171126T160000
DTEND;TZID=America/Toronto:20171126T180000
END:VEVENT
END:VCALENDAR
