BEGIN:VCALENDAR
PRODID:-//eluceo/ical//2.0/EN
VERSION:2.0
CALSCALE:GREGORIAN
BEGIN:VEVENT
UID:08ee6f1eb7082c8d240eb824013f23ce
DTSTAMP:20260419T153004Z
SUMMARY:Adath Israel 16th Annual Golf Tournament
DESCRIPTION:UJA Federation of Greater Toronto\nJewish Toronto Calendar\nhtt
 ps://jewishtoronto.com/calendar/adath-israel-16th-annual-golf-tournament-1
 531771221\n\nDelicious Kosher lunch and dinner. Contests\, raffles and mor
 e.
DTSTART;TZID=America/Toronto:20190528T113000
DTEND;TZID=America/Toronto:20190528T133000
END:VEVENT
END:VCALENDAR
