BEGIN:VCALENDAR
PRODID:-//eluceo/ical//2.0/EN
VERSION:2.0
CALSCALE:GREGORIAN
BEGIN:VEVENT
UID:67eb53ae485a01aea99c59bd8c76775b
DTSTAMP:20260419T215305Z
SUMMARY:New Israel Fund of Canada - Activism Without Limits ft.David Grossm
 an
DESCRIPTION:UJA Federation of Greater Toronto\nJewish Toronto Calendar\nhtt
 ps://jewishtoronto.com/calendar/activism-without-limits-featdavid-grossman
 -1466446444\n\n“There are some writers in whose words one recognizes the
  texture of life. David Grossman is such a writer.” — Yann Martel\, au
 thor of Life of Pi\n\nInternationally recognized as one of the most import
 ant literary and civic voices in Israel today\, David Grossman will be the
  exclusive guest of New Israel Fund of Canada for the Sixth Annual Shira
  Herzog Symposium. Together\, we’ll explore the passion and commitment 
 of major change-makers in Israel and why Grossman takes the risk to fig...
DTSTART;TZID=America/Toronto:20160911T130000
DTEND;TZID=America/Toronto:20160911T170000
END:VEVENT
END:VCALENDAR
