BEGIN:VCALENDAR
PRODID:-//eluceo/ical//2.0/EN
VERSION:2.0
CALSCALE:GREGORIAN
BEGIN:VEVENT
UID:40196a98a36a43f1d16539ccd9783531
DTSTAMP:20260419T193115Z
SUMMARY:Act To End Violence Againist Women - Behind Closed Doors
DESCRIPTION:UJA Federation of Greater Toronto\nJewish Toronto Calendar\nhtt
 ps://jewishtoronto.com/calendar/act-to-end-violence-againist-women---behin
 d-closed-doors-1474468295\n\nShattering the Myths About Domestic Violence 
 in the Jewish Community. Please join us as we reveal the harsh realities o
 f domestic abuse in our Jewish Community. Hear from experts i the field\, 
 first line responders\, abuse survivors and spiritual leaders. Learn how y
 ou can support survivors of abuse.Moderator: Brian Prousky\, Executive Dir
 ector Jewish Family & Child Speakers: Rabbi Avram Rothman Paula Rand\, Psy
 chotherapist\, Legal Support Worker Jewish Survivor of Domestic Abuse
DTSTART;TZID=America/Toronto:20161117T190000
DTEND;TZID=America/Toronto:20161117T210000
END:VEVENT
END:VCALENDAR
