BEGIN:VCALENDAR
PRODID:-//eluceo/ical//2.0/EN
VERSION:2.0
CALSCALE:GREGORIAN
BEGIN:VEVENT
UID:8d94f2095179d79c19c17fdfd6b179aa
DTSTAMP:20260426T005250Z
SUMMARY:ACT II STUDIO: Online Information Day (via Zoom)
DESCRIPTION:UJA Federation of Greater Toronto\nJewish Toronto Calendar\nhtt
 ps://jewishtoronto.com/calendar/act-ii-studio-online-information-day-via-z
 oom-1608154700\n\nLearn about the studio\, its courses\, and productions. 
 as well as the wonderful community it has become. Be well-entertained as y
 ou get to know some of our members\, sample some of our acting\, and learn
  about our programs from our Artistic Director.
DTSTART;TZID=America/Toronto:20210107T103000
DTEND;TZID=America/Toronto:20210107T123000
END:VEVENT
END:VCALENDAR
