BEGIN:VCALENDAR
PRODID:-//eluceo/ical//2.0/EN
VERSION:2.0
CALSCALE:GREGORIAN
BEGIN:VEVENT
UID:14883b2a1c5d8594047381d4c42242ac
DTSTAMP:20260421T053955Z
SUMMARY:Accessible Yoga - August
DESCRIPTION:UJA Federation of Greater Toronto\nJewish Toronto Calendar\nhtt
 ps://jewishtoronto.com/calendar/accessible-yoga-august\n\nAccessible Yoga\
 nThis fully inclusive yoga class is open to people of all abilities. In a 
 chair with optional standing poses\, we will stretch\, strengthen\, rejuve
 nate and relax through a gentle yoga sequence\, mindful breathing and medi
 tation.\nCompanions and support people are welcome.\nSundays\, August 1 -
   August 30| 1:00- 2:00 pm\nDrop-in: $5\nInfo: athletics@mnjcc.org (416) 
 924 6211 x 521\n 
DTSTART;TZID=America/Toronto:20150802T130000
DTEND;TZID=America/Toronto:20150802T140000
END:VEVENT
END:VCALENDAR
