BEGIN:VCALENDAR
PRODID:-//eluceo/ical//2.0/EN
VERSION:2.0
CALSCALE:GREGORIAN
BEGIN:VEVENT
UID:f839c5a1165577f31459228bf53bb92b
DTSTAMP:20260421T121918Z
SUMMARY:Accessible Communications Training - JDAIM
DESCRIPTION:UJA Federation of Greater Toronto\nJewish Toronto Calendar\nhtt
 ps://jewishtoronto.com/calendar/accessible-communications-training---jdaim
 -1452186086\n\nThe Miles Nadal JCC\, and ITANU Toronto\, the Inclusion ini
 tiative at UJA Federation\, are excited to offer you FREE professional dev
 elopment.All organizations\, including non-profits\, are required to make 
 websites and communications accessible under the AODA legislation. Join us
  for a workshop with Accessibility Ontario entitled “Accessible Communic
 ations: the AODA and Beyond”.Date: Feb. 18th Time: 3:30-5:00 p.m. Locati
 on: Lipa Green Conference Hall (Bathurst and Shepphard)This workshop will.
 ..
DTSTART;TZID=America/Toronto:20160218T153000
DTEND;TZID=America/Toronto:20160218T170000
END:VEVENT
END:VCALENDAR
