BEGIN:VCALENDAR
PRODID:-//eluceo/ical//2.0/EN
VERSION:2.0
CALSCALE:GREGORIAN
BEGIN:VEVENT
UID:8e860030662b6ceb2365c97d289391ba
DTSTAMP:20260424T020343Z
SUMMARY:Chabad@Flamingo presents Above and Beyond: Modern Maccabees of the 
 1948 IAF
DESCRIPTION:UJA Federation of Greater Toronto\nJewish Toronto Calendar\nhtt
 ps://jewishtoronto.com/calendar/above-and-beyond-modern-maccabees-of-the-1
 948-iaf\n\nOn the first night of Chanukah\, as Chabad @Flamingo again cel
 ebrates the ancient heroism of our brave Maccabees and their miraculous de
 liverance\, we'll be screening this compelling film for free! It's the f
 irst major feature-length documentary film about these airmen of the '48 W
 ar of Independence\, and it features new interviews as well as stunning ae
 rial footage to present a fascinating\, little-known piece of history with
  heart\, heroism and high-flying chutzpah. The screening will be foll...
DTSTART;TZID=America/Toronto:20141216T193000
DTEND;TZID=America/Toronto:20141216T213000
END:VEVENT
END:VCALENDAR
