BEGIN:VCALENDAR
PRODID:-//eluceo/ical//2.0/EN
VERSION:2.0
CALSCALE:GREGORIAN
BEGIN:VEVENT
UID:ebd04e82677da5f18d9ee9f1b7559a5f
DTSTAMP:20260423T034333Z
SUMMARY:A woman scribing & illuminating a Megillah: Special program with La
 ya Crust
DESCRIPTION:UJA Federation of Greater Toronto\nJewish Toronto Calendar\nhtt
 ps://jewishtoronto.com/calendar/a-woman-scribing--illuminating-a-megillah-
 special-program-with-laya-crust-1454546539\n\nIn 2010 Toronto based Judaic
 a artist Laya Crust was commissioned to scribe and illuminate a megillah. 
 She will speak about the orthodox attitude to women doing sofrut for a meg
 illah\, the tradition of illuminated megillot\, and the story behind some 
 of the extremely unique imagery she used. \n
DTSTART;TZID=America/Toronto:20160228T110000
DTEND;TZID=America/Toronto:20160228T130000
END:VEVENT
END:VCALENDAR
