BEGIN:VCALENDAR
PRODID:-//eluceo/ical//2.0/EN
VERSION:2.0
CALSCALE:GREGORIAN
BEGIN:VEVENT
UID:a019ca55b6326ad3434ce3f310e0e16d
DTSTAMP:20260422T131430Z
SUMMARY:A Virtual Tour of the Bata Shoe Museum
DESCRIPTION:UJA Federation of Greater Toronto\nJewish Toronto Calendar\nhtt
 ps://jewishtoronto.com/calendar/a-virtual-tour-of-the-bata-shoe-museum-163
 3701315\n\nThe tour discusses the history of footwear from around the worl
 d and features some of the most popular shoes in the collection.
DTSTART;TZID=America/Toronto:20211205T110000
DTEND;TZID=America/Toronto:20211205T130000
END:VEVENT
END:VCALENDAR
