BEGIN:VCALENDAR
PRODID:-//eluceo/ical//2.0/EN
VERSION:2.0
CALSCALE:GREGORIAN
BEGIN:VEVENT
UID:6ebda6d565db0ca48dac93012b3586af
DTSTAMP:20260421T043430Z
SUMMARY:A Tribute to Cantor Benny Maissner
DESCRIPTION:UJA Federation of Greater Toronto\nJewish Toronto Calendar\nhtt
 ps://jewishtoronto.com/calendar/a-tribute-to-cantor-benny-maissner-1591199
 940\n\nAfter 41 years\, Cantor Beny Maissner will be retiring as Senior Ca
 ntor of Holy Blossom Temple\nJoin us in an extravagant virtual celebration
  .\nTo register and to send Cantor Maissner a greeting please go to www.ho
 lyblossom.org\n\n \n\n \n\nif any artwork can be used please let me know
  Les lrothschild@sympatico.ca
DTSTART;TZID=America/Toronto:20200610T193000
DTEND;TZID=America/Toronto:20200610T213000
END:VEVENT
END:VCALENDAR
