BEGIN:VCALENDAR
PRODID:-//eluceo/ical//2.0/EN
VERSION:2.0
CALSCALE:GREGORIAN
BEGIN:VEVENT
UID:892aac73b602dc3737a9a97af2221f1d
DTSTAMP:20260421T233841Z
SUMMARY:A Temple Young Families Seder Sing-Along
DESCRIPTION:UJA Federation of Greater Toronto\nJewish Toronto Calendar\nhtt
 ps://jewishtoronto.com/calendar/a-temple-young-families-seder-sing-along-1
 615574170\n\nA Temple Young Families Seder Sing-Along Sunday\, March 28 at
  5.00 p.m.What makes this night different from all other nights? A chance 
 to sing\, play and laugh through the Seder with Rabbi Jordan Shaner and ou
 r talented friends\, Judy and David! Join us for a family Seder with music
 \, fun\, a chance to tell the story and to celebrate together.  Register o
 nline at https://templesinai.net/seder-sing-along/\, call the Temple offic
 e at 416-487-4161 or email programs@templesinai.net.
DTSTART;TZID=America/Toronto:20210328T170000
DTEND;TZID=America/Toronto:20210328T180000
END:VEVENT
END:VCALENDAR
