BEGIN:VCALENDAR
PRODID:-//eluceo/ical//2.0/EN
VERSION:2.0
CALSCALE:GREGORIAN
BEGIN:VEVENT
UID:425dcaba1048d4c3e61679bafc01781c
DTSTAMP:20260426T000802Z
SUMMARY:A Temple Sinai Young Families Sukkah Decorations Drop Off
DESCRIPTION:UJA Federation of Greater Toronto\nJewish Toronto Calendar\nhtt
 ps://jewishtoronto.com/calendar/a-temple-sinai-young-families-sukkah-decor
 ations-drop-off-1601904849\n\nA Temple Sinai Young Families Sukkah Decorat
 ions Drop Off Thursday\, October 1 to Thursday\, October 8 Watch Ashley\, 
 our Young Families Engagement Specialist\, on our Facebook and Instagram p
 ages during Sukkot and create outdoor fruit decorations together. Drop off
  your festive homemade decorations in the Temple Sinai Sukkah. We will han
 g them and share photos on our Facebook and Instagram pages. For more info
 rmation\, contact Ashley at ashleyb@templesinai.net.
DTSTART;TZID=America/Toronto:20201001T090000
DTEND;TZID=America/Toronto:20201001T170000
END:VEVENT
END:VCALENDAR
