BEGIN:VCALENDAR
PRODID:-//eluceo/ical//2.0/EN
VERSION:2.0
CALSCALE:GREGORIAN
BEGIN:VEVENT
UID:5790cb3ce04e7bd378c4a06d5096b125
DTSTAMP:20260420T121508Z
SUMMARY:A Temple Sinai Young Families Simchatpalooza on Zoom
DESCRIPTION:UJA Federation of Greater Toronto\nJewish Toronto Calendar\nhtt
 ps://jewishtoronto.com/calendar/a-temple-sinai-young-families-simchatpaloo
 za-on-zoom-1601904186\n\nA Temple Sinai Young Families Simchatpalooza on Z
 oom In partnership The Magen Boys Entertainment  Saturday\, October 10 at 
 5:30 p.m.  Create your own Torah with Ashley\, our Young Families Engageme
 nt Specialist\, during her live Facebook events during the week. Join us o
 n Zoom\, bring your Torah craft\, put on your dancing shoes and get ready 
 for a high-energy Simchat Torah dance celebration. In partnership with The
  Magen Boys Entertainment\, enjoy a unique musical experience with all of 
 the music ...
DTSTART;TZID=America/Toronto:20201010T173000
DTEND;TZID=America/Toronto:20201010T183000
END:VEVENT
END:VCALENDAR
