BEGIN:VCALENDAR
PRODID:-//eluceo/ical//2.0/EN
VERSION:2.0
CALSCALE:GREGORIAN
BEGIN:VEVENT
UID:0cd879f764c77b9b8f493be5d4d715ce
DTSTAMP:20260422T104151Z
SUMMARY:A Temple Sinai Young Families Program: Paint Party “The Wall on M
 y Wall”
DESCRIPTION:UJA Federation of Greater Toronto\nJewish Toronto Calendar\nhtt
 ps://jewishtoronto.com/calendar/a-temple-sinai-young-families-program-pain
 t-party-the-wall-on-my-wall-1594755865\n\nA Temple Sinai Young Families Pr
 ogram: Paint Party “The Wall on My Wall” Sunday\, July 19 from 3.00 p.
 m. to 4.30 p.m. We can’t visit Israel soon\, so we will bring Israel int
 o our homes. The next paint party is called “The Wall on My Wall”. Thi
 s inspired original painting by Ashley symbolizes that anyone can honour I
 srael and the Kotel from anywhere in the world. You too can paint this sce
 ne with your loved ones with step-by-step instructions from Ashley. You wi
 ll Learn: Basic instruc...
DTSTART;TZID=America/Toronto:20200719T150000
DTEND;TZID=America/Toronto:20200719T163000
END:VEVENT
END:VCALENDAR
