BEGIN:VCALENDAR
PRODID:-//eluceo/ical//2.0/EN
VERSION:2.0
CALSCALE:GREGORIAN
BEGIN:VEVENT
UID:9f6d36850174a9281054fad5260421c4
DTSTAMP:20260422T181749Z
SUMMARY:A Temple Sinai Shabbat B'yachad with Renaissance
DESCRIPTION:UJA Federation of Greater Toronto\nJewish Toronto Calendar\nhtt
 ps://jewishtoronto.com/calendar/a-temple-sinai-shabbat-byachad-with-renais
 sance-1567022669\n\nA Temple Sinai Shabbat B'yachad with Renaissance\nEnjo
 ying Shabbat together. A Portrait of St. Petersburg with Dr. Julia Zaranki
 n\, PhD\, award winning educator and writer on all things Russian. Dr. Zar
 ankin has recently taught at University of Toronto School of Continuing St
 udies\, Later Life Learning at Innis College and Hot Docs Curious Minds. T
 ime: 6:30 p.m. Shabbat Shirim Service led by Cantors Charles Osborne\, Sha
 ron Brown-Levy and “the Band”\; 7:00 p.m. Shabbat Dinner. Cost: Member
 s $30\;...
DTSTART;TZID=America/Toronto:20191101T183000
DTEND;TZID=America/Toronto:20191101T200000
END:VEVENT
END:VCALENDAR
