BEGIN:VCALENDAR
PRODID:-//eluceo/ical//2.0/EN
VERSION:2.0
CALSCALE:GREGORIAN
BEGIN:VEVENT
UID:a1c39dbe2870756477b4f10328c028b2
DTSTAMP:20260420T102215Z
SUMMARY:A Temple Sinai Program: Young Families Summertime Ice Cream Party H
 avdalah
DESCRIPTION:UJA Federation of Greater Toronto\nJewish Toronto Calendar\nhtt
 ps://jewishtoronto.com/calendar/a-temple-sinai-program-young-families-summ
 ertime-ice-cream-party-havdalah-1598037766\n\nA Temple Sinai Program: Youn
 g Families Summertime Ice Cream Party Havdalah Saturday\, August 29 from 6
 .00 p.m. to 7.30 p.m.  Rosh Hashanah and autumn are fast approaching\, so 
 we need to seize the summer while we can. Come join us AT Temple Sinai! Th
 at’s right\, we’re going to be in person\, outside the Temple building
 . We will gather together\, socially distanced\, in the parking lot\, play
  some games\, enjoy a beautiful havdalah service\, and stop by the ice cre
 am truck for a delicious\, cool tre...
DTSTART;TZID=America/Toronto:20200829T180000
DTEND;TZID=America/Toronto:20200829T193000
END:VEVENT
END:VCALENDAR
