BEGIN:VCALENDAR
PRODID:-//eluceo/ical//2.0/EN
VERSION:2.0
CALSCALE:GREGORIAN
BEGIN:VEVENT
UID:466a136766b640bf20c99ff8001908bb
DTSTAMP:20260422T143804Z
SUMMARY:A Temple Sinai Program: Young Families Presents Animal Exploration 
 Havdalah
DESCRIPTION:UJA Federation of Greater Toronto\nJewish Toronto Calendar\nhtt
 ps://jewishtoronto.com/calendar/a-temple-sinai-program-young-families-pres
 ents-animal-exploration-havdalah-1540579369\n\nA Temple Sinai Program: You
 ng Families Presents Animal Exploration Havdalah\n\nGet up close\, pet and
  learn about a variety of animals\, while celebrating Havdalah. Learn abou
 t Tzar Baalei Chayim\, prevention of cruelty to animals and how under Jewi
 sh law\, animals have some of the same rights as humans do.\n\nTime: 4:30 
 p.m. to 6:30 p.m.\nCost: $20 per family (includes pizza dinner).\n\nPlease
  bring an unopened toy to place in our toy box and help us bring warmth to
  ill children and their siblin...
DTSTART;TZID=America/Toronto:20181103T163000
DTEND;TZID=America/Toronto:20181103T183000
END:VEVENT
END:VCALENDAR
