BEGIN:VCALENDAR
PRODID:-//eluceo/ical//2.0/EN
VERSION:2.0
CALSCALE:GREGORIAN
BEGIN:VEVENT
UID:df187025e5f88b2455be87686d39112d
DTSTAMP:20260424T115546Z
SUMMARY:A Temple Sinai Program: Virtual Songs and Stories for Young Familie
 s
DESCRIPTION:UJA Federation of Greater Toronto\nJewish Toronto Calendar\nhtt
 ps://jewishtoronto.com/calendar/a-temple-sinai-program-virtual-songs-and-s
 tories-for-young-families-1591987202\n\nTemple Sinai continues to bring it
 s family programming directly to your home! Share the joy of celebrating S
 habbat by connecting virtually with your friends and other Temple families
 . Strike up a chord for a community and sing along. Join an immersive stor
 y telling experience and ignite the spirit of Shabbat together. Tune in fo
 r half an hour of fun-filled and captivating activities with Temple Sinai.
  We can't wait to see you. For more information\, visit us online at www.t
 emplesinai.net\, emai...
DTSTART;TZID=America/Toronto:20200619T113000
DTEND;TZID=America/Toronto:20200619T120000
END:VEVENT
END:VCALENDAR
